BEGIN:VCALENDAR
VERSION:2.0
PRODID:-//Mac &amp; Cheese Productions℠ - ECPv6.15.20//NONSGML v1.0//EN
CALSCALE:GREGORIAN
METHOD:PUBLISH
X-WR-CALNAME:Mac &amp; Cheese Productions℠
X-ORIGINAL-URL:https://macncheeseproductions.com
X-WR-CALDESC:Events for Mac &amp; Cheese Productions℠
REFRESH-INTERVAL;VALUE=DURATION:PT1H
X-Robots-Tag:noindex
X-PUBLISHED-TTL:PT1H
BEGIN:VTIMEZONE
TZID:America/New_York
BEGIN:DAYLIGHT
TZOFFSETFROM:-0500
TZOFFSETTO:-0400
TZNAME:EDT
DTSTART:20250309T070000
END:DAYLIGHT
BEGIN:STANDARD
TZOFFSETFROM:-0400
TZOFFSETTO:-0500
TZNAME:EST
DTSTART:20251102T060000
END:STANDARD
BEGIN:DAYLIGHT
TZOFFSETFROM:-0500
TZOFFSETTO:-0400
TZNAME:EDT
DTSTART:20260308T070000
END:DAYLIGHT
BEGIN:STANDARD
TZOFFSETFROM:-0400
TZOFFSETTO:-0500
TZNAME:EST
DTSTART:20261101T060000
END:STANDARD
BEGIN:DAYLIGHT
TZOFFSETFROM:-0500
TZOFFSETTO:-0400
TZNAME:EDT
DTSTART:20270314T070000
END:DAYLIGHT
BEGIN:STANDARD
TZOFFSETFROM:-0400
TZOFFSETTO:-0500
TZNAME:EST
DTSTART:20271107T060000
END:STANDARD
END:VTIMEZONE
BEGIN:VEVENT
DTSTART;TZID=America/New_York:20260625T120000
DTEND;TZID=America/New_York:20260625T130000
DTSTAMP:20260425T144120
CREATED:20260310T174259Z
LAST-MODIFIED:20260310T174259Z
UID:16801-1782388800-1782392400@macncheeseproductions.com
SUMMARY:Table for Two’ish | Chloe Daniels
DESCRIPTION:More Info | Register
URL:https://macncheeseproductions.com/event/table-for-twoish-chloe-daniels/
LOCATION:Online
CATEGORIES:Connections,Virtual
ATTACH;FMTTYPE=image/png:https://imgs.macncheeseproductions.com/wp-content/uploads/2026/01/TFT-CHLOE-DANIELS02.png
END:VEVENT
BEGIN:VEVENT
DTSTART;TZID=America/New_York:20260714T120000
DTEND;TZID=America/New_York:20260714T130000
DTSTAMP:20260425T144120
CREATED:20260108T015243Z
LAST-MODIFIED:20260121T123721Z
UID:16650-1784030400-1784034000@macncheeseproductions.com
SUMMARY:Table for Two’ish | Bela Gandhi
DESCRIPTION:More Info | Register
URL:https://macncheeseproductions.com/event/table-for-twoish-bela-gandhi/
LOCATION:Online
CATEGORIES:Connections,Virtual
ATTACH;FMTTYPE=image/png:https://imgs.macncheeseproductions.com/wp-content/uploads/2026/01/TFT-BELA02.png
END:VEVENT
BEGIN:VEVENT
DTSTART;TZID=America/New_York:20260721T180000
DTEND;TZID=America/New_York:20260721T200000
DTSTAMP:20260425T144120
CREATED:20260318T205040Z
LAST-MODIFIED:20260318T205040Z
UID:16803-1784656800-1784664000@macncheeseproductions.com
SUMMARY:Idea Potluck
DESCRIPTION:More Info | Buy a ticket
URL:https://macncheeseproductions.com/event/idea-potluck-5/
LOCATION:Wake Forest Center for Private Business\, 500 W. 5th Street\, Suite 300\, Winston Salem\, 27101\, United States
CATEGORIES:Connections,Entertainment,In Person
ATTACH;FMTTYPE=image/jpeg:https://imgs.macncheeseproductions.com/wp-content/uploads/2026/01/IMG_3596.jpg
END:VEVENT
BEGIN:VEVENT
DTSTART;TZID=America/New_York:20260730T120000
DTEND;TZID=America/New_York:20260730T130000
DTSTAMP:20260425T144120
CREATED:20260108T015140Z
LAST-MODIFIED:20260121T123739Z
UID:16648-1785412800-1785416400@macncheeseproductions.com
SUMMARY:Table for Two’ish | Maria Kim
DESCRIPTION:More Info | Register
URL:https://macncheeseproductions.com/event/table-for-twoish-maria-kim/
LOCATION:Online
CATEGORIES:Connections,Virtual
ATTACH;FMTTYPE=image/png:https://imgs.macncheeseproductions.com/wp-content/uploads/2026/01/TFT-MARIA-KIM03.png
END:VEVENT
BEGIN:VEVENT
DTSTART;TZID=America/New_York:20260811T120000
DTEND;TZID=America/New_York:20260811T130000
DTSTAMP:20260425T144120
CREATED:20260125T172344Z
LAST-MODIFIED:20260125T172344Z
UID:16770-1786449600-1786453200@macncheeseproductions.com
SUMMARY:Table for Two’ish | Danielle N. Davis
DESCRIPTION:More Info | Register
URL:https://macncheeseproductions.com/event/table-for-twoish-dani-davis/
LOCATION:Online
CATEGORIES:Connections,Virtual
ATTACH;FMTTYPE=image/png:https://imgs.macncheeseproductions.com/wp-content/uploads/2026/01/TFT-DANI-DAVIS02.png
END:VEVENT
BEGIN:VEVENT
DTSTART;TZID=America/New_York:20260825T180000
DTEND;TZID=America/New_York:20260825T200000
DTSTAMP:20260425T144120
CREATED:20260318T205101Z
LAST-MODIFIED:20260318T205101Z
UID:16804-1787680800-1787688000@macncheeseproductions.com
SUMMARY:Idea Potluck
DESCRIPTION:More Info | Buy a ticket
URL:https://macncheeseproductions.com/event/idea-potluck-6/
LOCATION:Wake Forest Center for Private Business\, 500 W. 5th Street\, Suite 300\, Winston Salem\, 27101\, United States
CATEGORIES:Connections,Entertainment,In Person
ATTACH;FMTTYPE=image/jpeg:https://imgs.macncheeseproductions.com/wp-content/uploads/2026/01/IMG_3596.jpg
END:VEVENT
BEGIN:VEVENT
DTSTART;TZID=America/New_York:20260922T180000
DTEND;TZID=America/New_York:20260922T200000
DTSTAMP:20260425T144120
CREATED:20260318T205121Z
LAST-MODIFIED:20260318T205121Z
UID:16805-1790100000-1790107200@macncheeseproductions.com
SUMMARY:Idea Potluck
DESCRIPTION:More Info | Buy a ticket
URL:https://macncheeseproductions.com/event/idea-potluck-7/
LOCATION:Wake Forest Center for Private Business\, 500 W. 5th Street\, Suite 300\, Winston Salem\, 27101\, United States
CATEGORIES:Connections,Entertainment,In Person
ATTACH;FMTTYPE=image/jpeg:https://imgs.macncheeseproductions.com/wp-content/uploads/2026/01/IMG_3596.jpg
END:VEVENT
BEGIN:VEVENT
DTSTART;TZID=America/New_York:20260924T120000
DTEND;TZID=America/New_York:20260924T130000
DTSTAMP:20260425T144120
CREATED:20260118T225559Z
LAST-MODIFIED:20260118T225708Z
UID:16739-1790251200-1790254800@macncheeseproductions.com
SUMMARY:Table for Two’ish | David Kadavy
DESCRIPTION:More Info | Register
URL:https://macncheeseproductions.com/event/table-for-twoish-david-kadavy/
LOCATION:Online
CATEGORIES:Connections,Virtual
ATTACH;FMTTYPE=image/png:https://imgs.macncheeseproductions.com/wp-content/uploads/2026/01/TFT-DAVID-KADAVY02.png
END:VEVENT
BEGIN:VEVENT
DTSTART;TZID=America/New_York:20261027T180000
DTEND;TZID=America/New_York:20261027T200000
DTSTAMP:20260425T144120
CREATED:20260318T205153Z
LAST-MODIFIED:20260318T205153Z
UID:16806-1793124000-1793131200@macncheeseproductions.com
SUMMARY:Idea Potluck
DESCRIPTION:More Info | Buy a ticket
URL:https://macncheeseproductions.com/event/idea-potluck-8/
LOCATION:Wake Forest Center for Private Business\, 500 W. 5th Street\, Suite 300\, Winston Salem\, 27101\, United States
CATEGORIES:Connections,Entertainment,In Person
ATTACH;FMTTYPE=image/jpeg:https://imgs.macncheeseproductions.com/wp-content/uploads/2026/01/IMG_3596.jpg
END:VEVENT
BEGIN:VEVENT
DTSTART;TZID=America/New_York:20261117T180000
DTEND;TZID=America/New_York:20261117T200000
DTSTAMP:20260425T144120
CREATED:20260318T205217Z
LAST-MODIFIED:20260318T205217Z
UID:16807-1794938400-1794945600@macncheeseproductions.com
SUMMARY:Idea Potluck
DESCRIPTION:More Info | Buy a ticket
URL:https://macncheeseproductions.com/event/idea-potluck-9/
LOCATION:Wake Forest Center for Private Business\, 500 W. 5th Street\, Suite 300\, Winston Salem\, 27101\, United States
CATEGORIES:Connections,Entertainment,In Person
ATTACH;FMTTYPE=image/jpeg:https://imgs.macncheeseproductions.com/wp-content/uploads/2026/01/IMG_3596.jpg
END:VEVENT
BEGIN:VEVENT
DTSTART;TZID=America/New_York:20261210T120000
DTEND;TZID=America/New_York:20261210T130000
DTSTAMP:20260425T144120
CREATED:20260121T123100Z
LAST-MODIFIED:20260121T123214Z
UID:16741-1796904000-1796907600@macncheeseproductions.com
SUMMARY:Table for Two’ish | Sonali Deepika
DESCRIPTION:More Info | Register
URL:https://macncheeseproductions.com/event/table-for-twoish-sonali-deepika/
LOCATION:Online
CATEGORIES:Connections,Virtual
ATTACH;FMTTYPE=image/png:https://imgs.macncheeseproductions.com/wp-content/uploads/2026/01/TFT-SONALI-DEEPIKA02.png
END:VEVENT
BEGIN:VEVENT
DTSTART;TZID=America/New_York:20261215T180000
DTEND;TZID=America/New_York:20261215T200000
DTSTAMP:20260425T144120
CREATED:20260318T205240Z
LAST-MODIFIED:20260318T205240Z
UID:16808-1797357600-1797364800@macncheeseproductions.com
SUMMARY:Idea Potluck
DESCRIPTION:More Info | Buy a ticket
URL:https://macncheeseproductions.com/event/idea-potluck-10/
LOCATION:Wake Forest Center for Private Business\, 500 W. 5th Street\, Suite 300\, Winston Salem\, 27101\, United States
CATEGORIES:Connections,Entertainment,In Person
ATTACH;FMTTYPE=image/jpeg:https://imgs.macncheeseproductions.com/wp-content/uploads/2026/01/IMG_3596.jpg
END:VEVENT
END:VCALENDAR