BEGIN:VCALENDAR
VERSION:2.0
PRODID:-//Mac &amp; Cheese Productions℠ - ECPv6.15.20//NONSGML v1.0//EN
CALSCALE:GREGORIAN
METHOD:PUBLISH
X-ORIGINAL-URL:https://macncheeseproductions.com
X-WR-CALDESC:Events for Mac &amp; Cheese Productions℠
REFRESH-INTERVAL;VALUE=DURATION:PT1H
X-Robots-Tag:noindex
X-PUBLISHED-TTL:PT1H
BEGIN:VTIMEZONE
TZID:America/New_York
BEGIN:DAYLIGHT
TZOFFSETFROM:-0500
TZOFFSETTO:-0400
TZNAME:EDT
DTSTART:20200308T070000
END:DAYLIGHT
BEGIN:STANDARD
TZOFFSETFROM:-0400
TZOFFSETTO:-0500
TZNAME:EST
DTSTART:20201101T060000
END:STANDARD
BEGIN:DAYLIGHT
TZOFFSETFROM:-0500
TZOFFSETTO:-0400
TZNAME:EDT
DTSTART:20210314T070000
END:DAYLIGHT
BEGIN:STANDARD
TZOFFSETFROM:-0400
TZOFFSETTO:-0500
TZNAME:EST
DTSTART:20211107T060000
END:STANDARD
BEGIN:DAYLIGHT
TZOFFSETFROM:-0500
TZOFFSETTO:-0400
TZNAME:EDT
DTSTART:20220313T070000
END:DAYLIGHT
BEGIN:STANDARD
TZOFFSETFROM:-0400
TZOFFSETTO:-0500
TZNAME:EST
DTSTART:20221106T060000
END:STANDARD
BEGIN:DAYLIGHT
TZOFFSETFROM:-0500
TZOFFSETTO:-0400
TZNAME:EDT
DTSTART:20230312T070000
END:DAYLIGHT
BEGIN:STANDARD
TZOFFSETFROM:-0400
TZOFFSETTO:-0500
TZNAME:EST
DTSTART:20231105T060000
END:STANDARD
BEGIN:DAYLIGHT
TZOFFSETFROM:-0500
TZOFFSETTO:-0400
TZNAME:EDT
DTSTART:20240310T070000
END:DAYLIGHT
BEGIN:STANDARD
TZOFFSETFROM:-0400
TZOFFSETTO:-0500
TZNAME:EST
DTSTART:20241103T060000
END:STANDARD
BEGIN:DAYLIGHT
TZOFFSETFROM:-0500
TZOFFSETTO:-0400
TZNAME:EDT
DTSTART:20250309T070000
END:DAYLIGHT
BEGIN:STANDARD
TZOFFSETFROM:-0400
TZOFFSETTO:-0500
TZNAME:EST
DTSTART:20251102T060000
END:STANDARD
BEGIN:DAYLIGHT
TZOFFSETFROM:-0500
TZOFFSETTO:-0400
TZNAME:EDT
DTSTART:20260308T070000
END:DAYLIGHT
BEGIN:STANDARD
TZOFFSETFROM:-0400
TZOFFSETTO:-0500
TZNAME:EST
DTSTART:20261101T060000
END:STANDARD
BEGIN:DAYLIGHT
TZOFFSETFROM:-0500
TZOFFSETTO:-0400
TZNAME:EDT
DTSTART:20270314T070000
END:DAYLIGHT
BEGIN:STANDARD
TZOFFSETFROM:-0400
TZOFFSETTO:-0500
TZNAME:EST
DTSTART:20271107T060000
END:STANDARD
END:VTIMEZONE
BEGIN:VEVENT
DTSTART;TZID=America/New_York:20260129T120000
DTEND;TZID=America/New_York:20260129T130000
DTSTAMP:20260425T162830
CREATED:20260102T201758Z
LAST-MODIFIED:20260121T123841Z
UID:16623-1769688000-1769691600@macncheeseproductions.com
SUMMARY:Table for Two’ish | Hillary Stifler
DESCRIPTION:More Info | Register
URL:https://macncheeseproductions.com/event/table-for-twoish/
LOCATION:Online
CATEGORIES:Connections,Virtual
ATTACH;FMTTYPE=image/png:https://imgs.macncheeseproductions.com/wp-content/uploads/2026/01/TFT-Hillary02.png
END:VEVENT
BEGIN:VEVENT
DTSTART;TZID=America/New_York:20260109T140000
DTEND;TZID=America/New_York:20260109T170000
DTSTAMP:20260425T162830
CREATED:20221026T120826Z
LAST-MODIFIED:20260102T201905Z
UID:14397-1767967200-1767978000@macncheeseproductions.com
SUMMARY:Blueprint Board Workshop: Create Your Visual Roadmap for The Year
DESCRIPTION:More Info | Register
URL:https://macncheeseproductions.com/event/in-person-blueprint-board-workshop/
LOCATION:Greater Winston-Salem Inc.\, 525 Vine Street\, Suite 240\, Winston Salem\, North Carolina\, 27101
CATEGORIES:Bootcamps / Classes / Workshops,In Person
ATTACH;FMTTYPE=image/jpeg:https://imgs.macncheeseproductions.com/wp-content/uploads/2020/11/Corp-LOY07-copy.jpg
END:VEVENT
BEGIN:VEVENT
DTSTART;TZID=America/New_York:20240917T190000
DTEND;TZID=America/New_York:20240917T203000
DTSTAMP:20260425T162830
CREATED:20240718T230632Z
LAST-MODIFIED:20240813T182302Z
UID:15638-1726599600-1726605000@macncheeseproductions.com
SUMMARY:Lifestyle Audit & Redesign: Simple\, Impactful Ways to Make Adulting Easier
DESCRIPTION:If you’ve ever felt “There has to be a better way” or like a hamster in a hamster wheel\, this workshop is for you. \nMore Info | Register
URL:https://macncheeseproductions.com/event/lifestyle-audit/
LOCATION:Online
CATEGORIES:Bootcamps / Classes / Workshops,Organization / Productivity,Virtual
ATTACH;FMTTYPE=image/png:https://imgs.macncheeseproductions.com/wp-content/uploads/2024/07/Gumroad-Thumbnail-600x600-1-1.png
END:VEVENT
BEGIN:VEVENT
DTSTART;TZID=America/New_York:20240808T190000
DTEND;TZID=America/New_York:20240808T203000
DTSTAMP:20260425T162830
CREATED:20200913T040044Z
LAST-MODIFIED:20240718T230853Z
UID:12697-1723143600-1723149000@macncheeseproductions.com
SUMMARY:Life of Yes℠: How To Attain a Fulfilling Life That Fits Who Matters – YOU
DESCRIPTION:Learn simple\, actionable steps to create a fulfilled life that fits you — your definition of success\, your values\, boundaries\, and wants\, your ideal lifestyle — framed through Saya’s relatable philosophies and experiences. \nMore Info | Register
URL:https://macncheeseproductions.com/event/life-of-yes-workshop/
LOCATION:Online
CATEGORIES:Bootcamps / Classes / Workshops,Virtual
ATTACH;FMTTYPE=image/png:https://imgs.macncheeseproductions.com/wp-content/uploads/2018/10/Gumroad-Thumbnail-600x600-1.png
END:VEVENT
BEGIN:VEVENT
DTSTART;VALUE=DATE:20240717
DTEND;VALUE=DATE:20240807
DTSTAMP:20260425T162830
CREATED:20240717T121032Z
LAST-MODIFIED:20240717T123451Z
UID:15620-1721178000-1722905999@macncheeseproductions.com
SUMMARY:Win Win Summer
DESCRIPTION:Too much adulting — Special assessments! Taxes! Estimated taxes! Trademarks! Certification! Business Insurance! Health! Price hikes for seemingly every business XYZ she needs and uses! — has Saya desiring an influx of cash\, please and thank you. \nBonus: win-win cash — you win\, she wins. Sales\, raffles\, freebies*\, oh my… \n  \nWin-Win Summer Offerings \n\nRaffles: $9 gets you Travel Guides | Consulting with Saya | Sparkle & Shine home clean\nDiscounts:\n\n50% off Market to Cheese-Its [submit what you want to market via this page and if approved\, you’ll get the discount]\n50% off Cleaning eBook [use discount code “winwinsummer”]\n30% off Adulting Kit [use discount code “winwinsummer”]\nAll Life of Yes℠ swag on sale (clothing | decals | posters | notecards | mugs+)\nAll videos are free\n\n\n\n  \n“But Saya\, how does free make you money?” \n“Great question\, Cheese-It! Maybe as a thank you nod you’ll choose to give me a 5 star rating and testimonial or share about the freebie\, about me\, about Mac & Cheese\, and your ol’ college bestie scrolling [insert platform] will be intrigued\, “Mac & Cheese Productions? What the heck is that?!”\, head to my website\, click around for hours (cause that’s what happens)\, and then see I’m a keynote speaker** and gush\, “ERMAGOD! I’m looking for someone to open my conference\, Saya looks perfect!” and then good ol’ Diane hires me\, so in fact while you paid $0\, I netted $XXXXXXXXXXXXXXXXXXXX. (**Swap consultant | cleaner | facilitator | writer | community builder where applicable…)” \n  \nIf you’ve always wanted the Adulting Kit or a Life of Yes℠ tank top or to have Best Friend and Best Friend handhold you in living your best travel life\, what a great time\, reason\, and way to manifest your wants. Head to the Mac & Cheese Store for all the goodies. \n\nAnother way to participate — if you buy ANYTHING on Amazon navigated to via the Mac & Cheese Amazon link\, Saya gets a kickback. Think of her for all your toilet paper\, Crocs\, and Brita filter needs. While the link will take you to the Mac & Cheese store\, again\, you can buy ANYTHING and you’ll make it rain for Mac & Cheese.  \n  \n\nWin-Win Summer ends August 5th!
URL:https://macncheeseproductions.com/event/win-win/
LOCATION:Online
CATEGORIES:Virtual
ATTACH;FMTTYPE=image/png:https://imgs.macncheeseproductions.com/wp-content/uploads/2024/07/Screenshot-2024-07-17-at-8.33.19%E2%80%AFAM.png
END:VEVENT
BEGIN:VEVENT
DTSTART;VALUE=DATE:20240717
DTEND;VALUE=DATE:20240807
DTSTAMP:20260425T162830
CREATED:20240717T120128Z
LAST-MODIFIED:20240718T230034Z
UID:15619-1721178000-1722905999@macncheeseproductions.com
SUMMARY:Travel Consulting Raffle
DESCRIPTION:Enter for a chance to have Best Friend & Best Friend help you travel better for $9!
URL:https://macncheeseproductions.com/event/travel-raffle/
LOCATION:Online
CATEGORIES:Travel,Virtual
ATTACH;FMTTYPE=image/png:https://imgs.macncheeseproductions.com/wp-content/uploads/2023/09/Screenshot-2024-07-17-at-7.53.45%E2%80%AFAM.png
END:VEVENT
BEGIN:VEVENT
DTSTART;VALUE=DATE:20240717
DTEND;VALUE=DATE:20240807
DTSTAMP:20260425T162830
CREATED:20240717T115741Z
LAST-MODIFIED:20240717T121300Z
UID:15618-1721178000-1722905999@macncheeseproductions.com
SUMMARY:Consulting with Saya Raffle
DESCRIPTION:Enter for a chance to consult with Saya for $9!
URL:https://macncheeseproductions.com/event/consulting-raffle/
LOCATION:Online
CATEGORIES:Connections,Organization / Productivity,Virtual
ATTACH;FMTTYPE=image/png:https://imgs.macncheeseproductions.com/wp-content/uploads/2023/09/Screenshot-2024-07-17-at-7.53.52%E2%80%AFAM.png
END:VEVENT
BEGIN:VEVENT
DTSTART;VALUE=DATE:20240717
DTEND;VALUE=DATE:20240807
DTSTAMP:20260425T162830
CREATED:20230907T015353Z
LAST-MODIFIED:20240717T121244Z
UID:15304-1721178000-1722905999@macncheeseproductions.com
SUMMARY:Sparkle & Shine Raffle
DESCRIPTION:Enter for a chance to have Sparkle & Shine Queen Saya clean your home for $9!
URL:https://macncheeseproductions.com/event/sparkle-shine-raffle/
LOCATION:Online
CATEGORIES:In Person
ATTACH;FMTTYPE=image/png:https://imgs.macncheeseproductions.com/wp-content/uploads/2023/09/Screenshot-2024-07-17-at-7.53.36%E2%80%AFAM.png
END:VEVENT
BEGIN:VEVENT
DTSTART;VALUE=DATE:20230906
DTEND;VALUE=DATE:20230915
DTSTAMP:20260425T162830
CREATED:20230907T011531Z
LAST-MODIFIED:20230907T011531Z
UID:15303-1693962000-1694653199@macncheeseproductions.com
SUMMARY:Speaker in a Box Pre-Orders
DESCRIPTION:Speaker in a Box is a digital blueprint\, workbook\, and VIP\, behind-the-scenes guide to the actions & inner-musings of an experienced presenter that’ll chummily yet firmly guide you in being a paid speaker.
URL:https://macncheeseproductions.com/event/speaker-in-a-box-pre-orders/
LOCATION:Online
CATEGORIES:Bootcamps / Classes / Workshops,Virtual
END:VEVENT
BEGIN:VEVENT
DTSTART;TZID=America/New_York:20230609T143000
DTEND;TZID=America/New_York:20230611T180000
DTSTAMP:20260425T162830
CREATED:20221026T121837Z
LAST-MODIFIED:20221212T164606Z
UID:14399-1686321000-1686506400@macncheeseproductions.com
SUMMARY:Life of Yes℠ Sleepaway Camp
DESCRIPTION:The meeting place is in Chicago but camp happens in Somewhere Magical… \nDesigned to equip you with a way of thinking and a community rooted in you getting as much as you can out of your life. A work on yourself weekend where you feel at home with people you just met; like summer camp for adults. \nAs seen in the New York Times\, SELF\, Chicago Magazine\, Midwest Living\, and Forbes. \nEveryone comes solo.\nUnplugged—no phones\, no tablets\, no laptops.\nEverything—food\, lodging/venue\, supplies\, schedule—is taken care of. You simply show up. \n  \nMORE INFO | REGISTER
URL:https://macncheeseproductions.com/event/life-of-yes%e2%84%a0-sleepaway-camp-2/
LOCATION:Mac & Cheese Productions\, Near Division & Wood\, Wicker Park (address sent upon registration)
CATEGORIES:Connections,In Person,Travel
ATTACH;FMTTYPE=image/jpeg:https://imgs.macncheeseproductions.com/wp-content/uploads/2013/04/10525811_10152662337772033_7886189554200036749_n.jpg
END:VEVENT
BEGIN:VEVENT
DTSTART;TZID=America/New_York:20230225T190000
DTEND;TZID=America/New_York:20230225T213000
DTSTAMP:20260425T162830
CREATED:20221212T164204Z
LAST-MODIFIED:20221212T164204Z
UID:14501-1677351600-1677360600@macncheeseproductions.com
SUMMARY:Mingler
DESCRIPTION:A Mingler is people interested in expanding their network and knowledge of interesting ways to explore the world gathering for a low-key\, no-pressure experience that’s the opposite of the bar and networking scenes. Everyone comes solo. \nMORE INFO | REGISTER
URL:https://macncheeseproductions.com/event/mingler-3/
LOCATION:Mac & Cheese Productions\, Near Division & Wood\, Wicker Park (address sent upon registration)
END:VEVENT
BEGIN:VEVENT
DTSTART;TZID=America/New_York:20230105T183000
DTEND;TZID=America/New_York:20230223T213000
DTSTAMP:20260425T162830
CREATED:20221026T121033Z
LAST-MODIFIED:20221026T121119Z
UID:14398-1672943400-1677187800@macncheeseproductions.com
SUMMARY:Storytelling Class
DESCRIPTION:An empowering\, writing and sharing-intensive\, intimate virtual class for those with “no stories” or “uninteresting” stories\, or for those who simply want space for community\, words\, and self. \nThis virtual class meets once a week\, on Thursdays\, for eight weeks\, from 5:30pm-8:30pm CST. \nMORE INFO | REGISTER
URL:https://macncheeseproductions.com/event/storytelling-class-2/
LOCATION:Online
CATEGORIES:Bootcamps / Classes / Workshops,Connections,Virtual
ATTACH;FMTTYPE=image/png:https://imgs.macncheeseproductions.com/wp-content/uploads/2020/10/USE-Storytelling-COVER.png
END:VEVENT
BEGIN:VEVENT
DTSTART;TZID=America/New_York:20221218T200000
DTEND;TZID=America/New_York:20221218T220000
DTSTAMP:20260425T162830
CREATED:20221031T124818Z
LAST-MODIFIED:20221031T124818Z
UID:14405-1671393600-1671400800@macncheeseproductions.com
SUMMARY:Cross It Off Club
DESCRIPTION:A focused\, distraction-free\, consistent protection of time and space for you to do you alongside focused others. Separately\, together.\nMORE INFO | REGISTER
URL:https://macncheeseproductions.com/event/cross-it-off-club-14/
LOCATION:Online
CATEGORIES:Organization / Productivity,Virtual
ATTACH;FMTTYPE=image/png:https://imgs.macncheeseproductions.com/wp-content/uploads/2020/12/Screen-Shot-2020-12-08-at-5.49.21-PM.png
END:VEVENT
BEGIN:VEVENT
DTSTART;TZID=America/New_York:20221216T130000
DTEND;TZID=America/New_York:20221216T150000
DTSTAMP:20260425T162830
CREATED:20221026T120601Z
LAST-MODIFIED:20221026T120601Z
UID:14396-1671195600-1671202800@macncheeseproductions.com
SUMMARY:[VIRTUAL] Blueprint Board Workshop: Create Your Visual Roadmap for The Year
DESCRIPTION:It’s not a Vision Board. It’s not a Dream Board. It’s not a Goal Board. It’s a Blueprint Board.\n \nYou start with a blank canvas and you fill it up with visual representations of where you’ll go and whom you’ll be in the new year. Not where you want to go or whom you want to be. But where you will go and whom you will be. Personally. Professionally. Spiritually. Romantically. Physically. Financially. Mentally. Whatever-ally.\n \nCraft a Blueprint Board with yummy items like glue sticks\, magazines\, and stickers\, then share your path and hear where others are headed. An inspiring\, hands-on experience to embrace Future You with a warm hug and sense of purpose and direction.\nMORE INFO | REGISTER
URL:https://macncheeseproductions.com/event/virtual-blueprint-board-workshop-create-your-visual-roadmap-for-the-year/
LOCATION:Online
CATEGORIES:Bootcamps / Classes / Workshops,Virtual
ATTACH;FMTTYPE=image/jpeg:https://imgs.macncheeseproductions.com/wp-content/uploads/2018/10/20200101_164050-scaled.jpg
END:VEVENT
BEGIN:VEVENT
DTSTART;TZID=America/New_York:20221120T200000
DTEND;TZID=America/New_York:20221120T220000
DTSTAMP:20260425T162830
CREATED:20220105T032314Z
LAST-MODIFIED:20221031T124709Z
UID:13914-1668974400-1668981600@macncheeseproductions.com
SUMMARY:Cross It Off Club
DESCRIPTION:A focused\, distraction-free\, consistent protection of time and space for you to do you alongside focused others. Separately\, together.\nMORE INFO | REGISTER
URL:https://macncheeseproductions.com/event/cross-it-off-club-13/
LOCATION:Online
CATEGORIES:Organization / Productivity,Virtual
ATTACH;FMTTYPE=image/png:https://imgs.macncheeseproductions.com/wp-content/uploads/2020/12/Screen-Shot-2020-12-08-at-5.49.21-PM.png
END:VEVENT
BEGIN:VEVENT
DTSTART;TZID=America/New_York:20221103T190000
DTEND;TZID=America/New_York:20221103T203000
DTSTAMP:20260425T162830
CREATED:20221026T120255Z
LAST-MODIFIED:20221026T120358Z
UID:14395-1667502000-1667507400@macncheeseproductions.com
SUMMARY:Storytelling Showcase
DESCRIPTION:A celebratory\, inspiring gathering of people challenging themselves and sharing themselves via storytelling. An adult recital if you will. \nMore Info | Register
URL:https://macncheeseproductions.com/event/storytelling-showcase-2/
LOCATION:Online
CATEGORIES:Entertainment,Virtual
ATTACH;FMTTYPE=image/png:https://imgs.macncheeseproductions.com/wp-content/uploads/2020/08/Showcase.png
END:VEVENT
BEGIN:VEVENT
DTSTART;TZID=America/New_York:20220906T183000
DTEND;TZID=America/New_York:20221025T213000
DTSTAMP:20260425T162830
CREATED:20201006T152147Z
LAST-MODIFIED:20220616T150129Z
UID:12797-1662489000-1666733400@macncheeseproductions.com
SUMMARY:Storytelling Class
DESCRIPTION:An empowering\, writing and sharing-intensive\, intimate virtual class for those with “no stories” or “uninteresting” stories\, or for those who simply want space for community\, words\, and self. \nThis class meets once a week\, on Tuesdays\, for eight weeks\, from 5:30pm-8:30pm CST. \nMORE INFO | REGISTER
URL:https://macncheeseproductions.com/event/storytelling-class/
LOCATION:Online
CATEGORIES:Bootcamps / Classes / Workshops,Connections,Virtual
ATTACH;FMTTYPE=image/png:https://imgs.macncheeseproductions.com/wp-content/uploads/2020/10/USE-Storytelling-COVER.png
END:VEVENT
BEGIN:VEVENT
DTSTART;TZID=America/New_York:20220715T143000
DTEND;TZID=America/New_York:20220717T180000
DTSTAMP:20260425T162830
CREATED:20180928T164857Z
LAST-MODIFIED:20210602T135545Z
UID:10228-1657895400-1658080800@macncheeseproductions.com
SUMMARY:Life of Yes℠ Sleepaway Camp
DESCRIPTION:The meeting place is in Chicago but camp happens in Somewhere Magical… \nDesigned to equip you with a way of thinking and a community rooted in you getting as much as you can out of your life. A weekend filled with habit-\, value-\, and courage-development activities\, in an environment where you feel at home with people you just met… like summer camp for adults. \nAs seen in the New York Times\, SELF\, Chicago Magazine\, Midwest Living\, and Forbes. \nEveryone comes solo.\nUnplugged—no phones\, no tablets\, no laptops.\nEverything—food\, lodging/venue\, supplies\, schedule—is taken care of. \n  \nMORE INFO | REGISTER
URL:https://macncheeseproductions.com/event/life-of-yes%e2%84%a0-sleepaway-camp/
LOCATION:Mac & Cheese Productions\, Near Division & Wood\, Wicker Park (address sent upon registration)
CATEGORIES:Connections,Travel
ATTACH;FMTTYPE=image/jpeg:https://imgs.macncheeseproductions.com/wp-content/uploads/2013/04/10525811_10152662337772033_7886189554200036749_n.jpg
END:VEVENT
BEGIN:VEVENT
DTSTART;TZID=America/New_York:20220411T190000
DTEND;TZID=America/New_York:20220411T201500
DTSTAMP:20260425T162830
CREATED:20220313T155213Z
LAST-MODIFIED:20220313T171659Z
UID:13981-1649703600-1649708100@macncheeseproductions.com
SUMMARY:Life of Yes℠ Diaries with DeLonda
DESCRIPTION:Join DeLonda to see Life of Yes℠ manifested IRL as she shares how this way of being has brought her joy and inspired others to do the same. Questions and discussion encouraged. Walk away ready and with ideas to design your own Life of Yes℠. \nMore Info | Register Here
URL:https://macncheeseproductions.com/event/life-of-yes%e2%84%a0-diaries-with-delonda/
LOCATION:Online
CATEGORIES:Bootcamps / Classes / Workshops,Travel,Virtual
END:VEVENT
BEGIN:VEVENT
DTSTART;VALUE=DATE:20220322
DTEND;VALUE=DATE:20220324
DTSTAMP:20260425T162830
CREATED:20220312T193901Z
LAST-MODIFIED:20220312T193901Z
UID:13971-1647910800-1647997199@macncheeseproductions.com
SUMMARY:Adulting Kit (orders end)
DESCRIPTION:What if there was a magical place that had all the grownup things you should know and do\, in list\, table\, flowchart\, & spreadsheet form? The boring\, unsexy knowledge that by its simple possession makes you capital A Adult and thus an organized\, efficient\, proactive\, sexy being.\n \n👋🏾 Enter the Life of Yes℠ Adulting Kit.
URL:https://macncheeseproductions.com/event/adulting-kit-orders-end/
CATEGORIES:Organization / Productivity,Virtual
ATTACH;FMTTYPE=image/png:https://imgs.macncheeseproductions.com/wp-content/uploads/2022/03/Adulting-Kit-Cover-center-1.png
END:VEVENT
BEGIN:VEVENT
DTSTART;TZID=America/New_York:20220213T150000
DTEND;TZID=America/New_York:20220213T180000
DTSTAMP:20260425T162830
CREATED:20200409T024338Z
LAST-MODIFIED:20220101T011344Z
UID:12326-1644764400-1644775200@macncheeseproductions.com
SUMMARY:Sparkle & Shine: Bathroom Edition
DESCRIPTION:“We’re all in this together” virtual cleaning sessions that result in feeling good about yourself and one gorgeous area of your home. So we’re clear about the FUN to be had: you will actually be cleaning. Alongside Saya and whomever else joins. Like having a workout buddy or a writing buddy\, how ‘bout a cleaning buddy? You still gotta do the work but with a buddy\, it feels less like work. Fun\, even. You keep going when you’re ready to give up. You learn how to be more efficient and thorough. You find surprise inspiration and motivation. You push yourself. You finish what you start. And at the end\, you group celebrate your victories. \nMORE INFO/REGISTER
URL:https://macncheeseproductions.com/event/virtual-sparkle-shine-with-saya-bathroom-edition/
LOCATION:Online
CATEGORIES:Bootcamps / Classes / Workshops,Virtual
ATTACH;FMTTYPE=image/png:https://imgs.macncheeseproductions.com/wp-content/uploads/2020/04/Screen-Shot-2021-03-14-at-5.24.25-PM.png
END:VEVENT
BEGIN:VEVENT
DTSTART;TZID=America/New_York:20220123T150000
DTEND;TZID=America/New_York:20220123T180000
DTSTAMP:20260425T162830
CREATED:20200409T024519Z
LAST-MODIFIED:20211009T162208Z
UID:12328-1642950000-1642960800@macncheeseproductions.com
SUMMARY:Sparkle & Shine: Kitchen Edition
DESCRIPTION:“We’re all in this together” virtual cleaning sessions that result in feeling good about yourself and one gorgeous area of your home. So we’re clear about the FUN to be had: you will actually be cleaning. Alongside Saya and whomever else joins. Like having a workout buddy or a writing buddy\, how ‘bout a cleaning buddy? You still gotta do the work but with a buddy\, it feels less like work. Fun\, even. You keep going when you’re ready to give up. You learn how to be more efficient and thorough. You find surprise inspiration and motivation. You push yourself. You finish what you start. And at the end\, you group celebrate your victories. \nMORE INFO/REGISTER
URL:https://macncheeseproductions.com/event/virtual-sparkle-shine-with-saya-kitchen-edition-2/
LOCATION:Online
CATEGORIES:Bootcamps / Classes / Workshops,Virtual
ATTACH;FMTTYPE=image/png:https://imgs.macncheeseproductions.com/wp-content/uploads/2020/04/Screen-Shot-2021-03-14-at-5.24.25-PM.png
END:VEVENT
BEGIN:VEVENT
DTSTART;TZID=America/New_York:20220101T160000
DTEND;TZID=America/New_York:20220101T180000
DTSTAMP:20260425T162830
CREATED:20180928T164239Z
LAST-MODIFIED:20211009T145042Z
UID:10226-1641052800-1641060000@macncheeseproductions.com
SUMMARY:Blueprint Board Workshop: Create Your Visual Roadmap for The Year
DESCRIPTION:It’s not a Vision Board. It’s not a Dream Board. It’s not a Goal Board. It’s a Blueprint Board.\n \nYou start with a blank canvas and you fill it up with visual representations of where you’ll go and whom you’ll be in the new year. Not where you want to go or whom you want to be. But where you will go and whom you will be. Personally. Professionally. Spiritually. Romantically. Physically. Financially. Mentally. Whatever-ally.\n \nCraft a Blueprint Board with yummy items like glue sticks\, magazines\, and stickers\, then share your path and hear where others are headed. An inspiring\, hands-on experience to embrace Future You with a warm hug and sense of purpose and direction.\nMORE INFO | REGISTER
URL:https://macncheeseproductions.com/event/blueprint-board-workshop-your-visual-roadmap/
LOCATION:Online
CATEGORIES:Bootcamps / Classes / Workshops,Virtual
ATTACH;FMTTYPE=image/jpeg:https://imgs.macncheeseproductions.com/wp-content/uploads/2018/10/20200101_164050-scaled.jpg
END:VEVENT
BEGIN:VEVENT
DTSTART;TZID=America/New_York:20211219T200000
DTEND;TZID=America/New_York:20211219T220000
DTSTAMP:20260425T162830
CREATED:20201209T013106Z
LAST-MODIFIED:20201209T013106Z
UID:12959-1639944000-1639951200@macncheeseproductions.com
SUMMARY:Cross It Off Club
DESCRIPTION:A focused\, distraction-free\, consistent protection of time and space for you to do you alongside focused others. Separately\, together.\nMORE INFO | REGISTER
URL:https://macncheeseproductions.com/event/cross-it-off-club-9/
LOCATION:Online
CATEGORIES:Organization / Productivity,Virtual
ATTACH;FMTTYPE=image/png:https://imgs.macncheeseproductions.com/wp-content/uploads/2020/12/Screen-Shot-2020-12-08-at-5.49.21-PM.png
END:VEVENT
BEGIN:VEVENT
DTSTART;TZID=America/New_York:20211216T200000
DTEND;TZID=America/New_York:20211216T210000
DTSTAMP:20260425T162830
CREATED:20211201T182555Z
LAST-MODIFIED:20211201T182555Z
UID:13886-1639684800-1639688400@macncheeseproductions.com
SUMMARY:I Can't: Keep Plants Alive
DESCRIPTION:Plant ownership doesn’t have to be so darn complicated; let’s spend some time together talking about light\, watering\, and the best types of plants for each space and lifestyle.\n\n\nMore Info | Register
URL:https://macncheeseproductions.com/event/i-cant-keep-plants-alive/
LOCATION:Online
CATEGORIES:Bootcamps / Classes / Workshops,Virtual
END:VEVENT
BEGIN:VEVENT
DTSTART;TZID=America/New_York:20211121T200000
DTEND;TZID=America/New_York:20211121T220000
DTSTAMP:20260425T162830
CREATED:20201209T013007Z
LAST-MODIFIED:20201209T013028Z
UID:12958-1637524800-1637532000@macncheeseproductions.com
SUMMARY:Cross It Off Club
DESCRIPTION:A focused\, distraction-free\, consistent protection of time and space for you to do you alongside focused others. Separately\, together.\nMORE INFO | REGISTER
URL:https://macncheeseproductions.com/event/cross-it-off-club-8/
LOCATION:Online
CATEGORIES:Organization / Productivity,Virtual
ATTACH;FMTTYPE=image/png:https://imgs.macncheeseproductions.com/wp-content/uploads/2020/12/Screen-Shot-2020-12-08-at-5.49.21-PM.png
END:VEVENT
BEGIN:VEVENT
DTSTART;TZID=America/New_York:20211031T200000
DTEND;TZID=America/New_York:20211031T220000
DTSTAMP:20260425T162830
CREATED:20201209T013437Z
LAST-MODIFIED:20201209T013437Z
UID:12962-1635710400-1635717600@macncheeseproductions.com
SUMMARY:Cross It Off Club
DESCRIPTION:A focused\, distraction-free\, consistent protection of time and space for you to do you alongside focused others. Separately\, together.\nMORE INFO | REGISTER
URL:https://macncheeseproductions.com/event/cross-it-off-club-12/
LOCATION:Online
CATEGORIES:Organization / Productivity,Virtual
ATTACH;FMTTYPE=image/png:https://imgs.macncheeseproductions.com/wp-content/uploads/2020/12/Screen-Shot-2020-12-08-at-5.49.21-PM.png
END:VEVENT
BEGIN:VEVENT
DTSTART;TZID=America/New_York:20210928T190000
DTEND;TZID=America/New_York:20210928T210000
DTSTAMP:20260425T162830
CREATED:20210217T191042Z
LAST-MODIFIED:20210721T143755Z
UID:13151-1632855600-1632862800@macncheeseproductions.com
SUMMARY:I Can't: TikTok for Business
DESCRIPTION:Ease into embracing TikTok and see past the misconception that it’s only for dancing teenagers. Learn from a down to earth\, transparent social media veteran and maven who’s a pro at breaking down life so we can easily learn and implement. Social media doesn’t have to be hard or overwhelming. It can be fun!\n\nMore Info | Register
URL:https://macncheeseproductions.com/event/i-cant-tiktok/
LOCATION:Online
CATEGORIES:Bootcamps / Classes / Workshops,Virtual
END:VEVENT
BEGIN:VEVENT
DTSTART;TZID=America/New_York:20210926T200000
DTEND;TZID=America/New_York:20210926T220000
DTSTAMP:20260425T162830
CREATED:20201209T012936Z
LAST-MODIFIED:20201209T012936Z
UID:12957-1632686400-1632693600@macncheeseproductions.com
SUMMARY:Cross It Off Club
DESCRIPTION:A focused\, distraction-free\, consistent protection of time and space for you to do you alongside focused others. Separately\, together.\nMORE INFO | REGISTER
URL:https://macncheeseproductions.com/event/cross-it-off-club-7/
LOCATION:Online
CATEGORIES:Organization / Productivity,Virtual
ATTACH;FMTTYPE=image/png:https://imgs.macncheeseproductions.com/wp-content/uploads/2020/12/Screen-Shot-2020-12-08-at-5.49.21-PM.png
END:VEVENT
BEGIN:VEVENT
DTSTART;TZID=America/New_York:20210918T200000
DTEND;TZID=America/New_York:20210918T230000
DTSTAMP:20260425T162830
CREATED:20181203T015839Z
LAST-MODIFIED:20210721T143959Z
UID:10739-1631995200-1632006000@macncheeseproductions.com
SUMMARY:Fear Experiment℠: The Show
DESCRIPTION:Fear Experiment℠ is a way for people to challenge themselves\, meet others\, and be a rockstar through 2.5 months of rehearsals of an art-form which culminates in a show in front of hundreds. Criteria to participate? Sign up solo and be a bit fearful. It’s an Adult Recital and so much more. \nJoin the inspiring evening of adults pushing themselves\, on the same stage that’s held Whitney Houston\, Bob Dylan\, and Aretha Franklin\, for the tenth anniversary and final Fear Experiment℠! \n“I didn’t know what to expect from this show. I was excited to go\, but did not expect to be blown away… Fear Experiment\, by far\, exceeded a lot professional acts I have seen in regards to OVERALL entertainment.” – audience member \nFor tickets\, head here. For background\, head here.
URL:https://macncheeseproductions.com/event/fear-experiment%e2%84%a0-the-show/
LOCATION:Park West\, 322 W Armitage Ave\, Chicago
CATEGORIES:Connections,Entertainment
ATTACH;FMTTYPE=image/jpeg:https://imgs.macncheeseproductions.com/wp-content/uploads/2018/09/20160326_225303.jpg
END:VEVENT
END:VCALENDAR